Package: Rfastp Version: 1.18.0 Command: rm -rf Rfastp.buildbin-libdir && mkdir Rfastp.buildbin-libdir && /Users/biocbuild/BBS/utils/build-universal.sh Rfastp_1.18.0.tar.gz /Library/Frameworks/R.framework/Resources/bin/R Rfastp.buildbin-libdir StartedAt: 2025-10-15 20:04:06 -0400 (Wed, 15 Oct 2025) EndedAt: 2025-10-15 20:05:31 -0400 (Wed, 15 Oct 2025) EllapsedTime: 85.1 seconds RetCode: 0 Status: OK PackageFile: Rfastp_1.18.0.tgz PackageFileSize: 2.802 MiB