Package: ResidualMatrix Version: 1.20.0 Command: /home/biocbuild/R/R/bin/R CMD INSTALL ResidualMatrix StartedAt: 2025-11-13 21:22:51 -0000 (Thu, 13 Nov 2025) EndedAt: 2025-11-13 21:23:16 -0000 (Thu, 13 Nov 2025) EllapsedTime: 25.1 seconds RetCode: 0 Status: OK