Package: ResidualMatrix Version: 1.20.0 Command: /home/biocbuild/bbs-3.22-bioc/R/bin/R CMD INSTALL ResidualMatrix StartedAt: 2025-11-11 15:20:00 -0500 (Tue, 11 Nov 2025) EndedAt: 2025-11-11 15:20:18 -0500 (Tue, 11 Nov 2025) EllapsedTime: 18.2 seconds RetCode: 0 Status: OK