Package: ResidualMatrix Version: 1.18.0 Command: rm -rf ResidualMatrix.buildbin-libdir && mkdir ResidualMatrix.buildbin-libdir && /Users/biocbuild/BBS/utils/build-universal.sh ResidualMatrix_1.18.0.tar.gz /Library/Frameworks/R.framework/Resources/bin/R ResidualMatrix.buildbin-libdir StartedAt: 2025-10-14 14:31:53 -0400 (Tue, 14 Oct 2025) EndedAt: 2025-10-14 14:32:49 -0400 (Tue, 14 Oct 2025) EllapsedTime: 55.8 seconds RetCode: 0 Status: OK PackageFile: ResidualMatrix_1.18.0.tgz PackageFileSize: 630.3 KiB