Package: ReportingTools Version: 2.50.0 Command: /home/biocbuild/R/R/bin/R CMD INSTALL ReportingTools StartedAt: 2025-11-13 21:54:51 -0000 (Thu, 13 Nov 2025) EndedAt: 2025-11-13 21:56:12 -0000 (Thu, 13 Nov 2025) EllapsedTime: 80.9 seconds RetCode: 0 Status: OK