Package: ReportingTools Version: 2.50.0 Command: /home/biocbuild/R/R/bin/R CMD build --keep-empty-dirs --no-resave-data ReportingTools StartedAt: 2025-11-14 04:33:40 -0000 (Fri, 14 Nov 2025) EndedAt: 2025-11-14 04:35:05 -0000 (Fri, 14 Nov 2025) EllapsedTime: 85.0 seconds RetCode: 0 Status: OK PackageFile: ReportingTools_2.50.0.tar.gz PackageFileSize: 1.773 MiB