Package: ReportingTools Version: 2.50.0 Command: /home/biocbuild/bbs-3.22-bioc/R/bin/R CMD INSTALL ReportingTools StartedAt: 2025-11-11 15:51:17 -0500 (Tue, 11 Nov 2025) EndedAt: 2025-11-11 15:52:17 -0500 (Tue, 11 Nov 2025) EllapsedTime: 60.2 seconds RetCode: 0 Status: OK