Package: ReportingTools Version: 2.50.0 Command: /home/biocbuild/bbs-3.22-bioc/R/bin/R CMD check --install=check:ReportingTools.install-out.txt --library=/home/biocbuild/bbs-3.22-bioc/R/site-library --timings ReportingTools_2.50.0.tar.gz StartedAt: 2025-11-12 03:18:46 -0500 (Wed, 12 Nov 2025) EndedAt: 2025-11-12 03:28:46 -0500 (Wed, 12 Nov 2025) EllapsedTime: 599.6 seconds RetCode: 0 Status: OK CheckDir: ReportingTools.Rcheck Warnings: 0