Package: ReportingTools Version: 2.48.0 Command: rm -rf ReportingTools.buildbin-libdir && mkdir ReportingTools.buildbin-libdir && /Users/biocbuild/BBS/utils/build-universal.sh ReportingTools_2.48.0.tar.gz /Library/Frameworks/R.framework/Resources/bin/R ReportingTools.buildbin-libdir StartedAt: 2025-09-27 19:02:30 -0400 (Sat, 27 Sep 2025) EndedAt: 2025-09-27 19:03:53 -0400 (Sat, 27 Sep 2025) EllapsedTime: 82.3 seconds RetCode: 0 Status: OK PackageFile: ReportingTools_2.48.0.tgz PackageFileSize: 1.82 MiB