Package: Repitools Version: 1.56.0 Command: /home/biocbuild/R/R/bin/R CMD build --keep-empty-dirs --no-resave-data Repitools StartedAt: 2025-11-11 04:28:28 -0000 (Tue, 11 Nov 2025) EndedAt: 2025-11-11 04:29:37 -0000 (Tue, 11 Nov 2025) EllapsedTime: 69.0 seconds RetCode: 0 Status: OK PackageFile: Repitools_1.56.0.tar.gz PackageFileSize: 1.68 MiB