Package: Repitools Version: 1.56.0 Command: /home/biocbuild/bbs-3.22-bioc/R/bin/R CMD build --keep-empty-dirs --no-resave-data --md5 Repitools StartedAt: 2025-11-14 19:42:48 -0500 (Fri, 14 Nov 2025) EndedAt: 2025-11-14 19:42:49 -0500 (Fri, 14 Nov 2025) EllapsedTime: 1.0 seconds RetCode: 1 Status: ERROR PackageFile: None PackageFileSize: NA