Package: Repitools Version: 1.54.0 Command: /Library/Frameworks/R.framework/Resources/bin/R CMD build --keep-empty-dirs --no-resave-data Repitools StartedAt: 2025-10-02 21:58:56 -0400 (Thu, 02 Oct 2025) EndedAt: 2025-10-02 21:58:58 -0400 (Thu, 02 Oct 2025) EllapsedTime: 2.3 seconds RetCode: 1 Status: ERROR PackageFile: None PackageFileSize: NA