Package: Repitools Version: 1.54.0 Command: /home/biocbuild/R/R/bin/R CMD build --keep-empty-dirs --no-resave-data Repitools StartedAt: 2025-09-26 05:15:57 -0000 (Fri, 26 Sep 2025) EndedAt: 2025-09-26 05:17:13 -0000 (Fri, 26 Sep 2025) EllapsedTime: 76.0 seconds RetCode: 0 Status: OK PackageFile: Repitools_1.54.0.tar.gz PackageFileSize: 1.68 MiB