Package: RepViz Version: 1.26.0 Command: /home/biocbuild/R/R/bin/R CMD INSTALL RepViz StartedAt: 2025-11-10 21:34:35 -0000 (Mon, 10 Nov 2025) EndedAt: 2025-11-10 21:34:57 -0000 (Mon, 10 Nov 2025) EllapsedTime: 21.7 seconds RetCode: 0 Status: OK