Package: RepViz Version: 1.26.0 Command: /home/biocbuild/R/R/bin/R CMD build --keep-empty-dirs --no-resave-data RepViz StartedAt: 2025-11-11 04:28:47 -0000 (Tue, 11 Nov 2025) EndedAt: 2025-11-11 04:29:21 -0000 (Tue, 11 Nov 2025) EllapsedTime: 34.0 seconds RetCode: 1 Status: ERROR PackageFile: None PackageFileSize: NA