Package: RepViz Version: 1.26.0 Command: /home/biocbuild/bbs-3.22-bioc/R/bin/R CMD INSTALL RepViz StartedAt: 2025-11-13 15:28:09 -0500 (Thu, 13 Nov 2025) EndedAt: 2025-11-13 15:28:26 -0500 (Thu, 13 Nov 2025) EllapsedTime: 17.0 seconds RetCode: 0 Status: OK