Package: RepViz Version: 1.26.0 Command: /home/biocbuild/bbs-3.22-bioc/R/bin/R CMD build --keep-empty-dirs --no-resave-data --md5 RepViz StartedAt: 2025-11-13 19:41:48 -0500 (Thu, 13 Nov 2025) EndedAt: 2025-11-13 19:42:18 -0500 (Thu, 13 Nov 2025) EllapsedTime: 30.0 seconds RetCode: 1 Status: ERROR PackageFile: None PackageFileSize: NA