Package: RepViz Version: 1.24.0 Command: /Library/Frameworks/R.framework/Resources/bin/R CMD INSTALL RepViz StartedAt: 2025-10-13 15:48:25 -0400 (Mon, 13 Oct 2025) EndedAt: 2025-10-13 15:49:05 -0400 (Mon, 13 Oct 2025) EllapsedTime: 40.0 seconds RetCode: 0 Status: OK