Package: RegionalST Version: 1.8.0 Command: /home/biocbuild/bbs-3.22-bioc/R/bin/R CMD INSTALL RegionalST StartedAt: 2025-11-13 16:00:47 -0500 (Thu, 13 Nov 2025) EndedAt: 2025-11-13 16:01:15 -0500 (Thu, 13 Nov 2025) EllapsedTime: 27.7 seconds RetCode: 0 Status: OK