Package: RegionalST Version: 1.8.0 Command: /home/biocbuild/bbs-3.22-bioc/R/bin/R CMD build --keep-empty-dirs --no-resave-data --md5 RegionalST StartedAt: 2025-11-13 19:40:35 -0500 (Thu, 13 Nov 2025) EndedAt: 2025-11-13 19:42:19 -0500 (Thu, 13 Nov 2025) EllapsedTime: 104.1 seconds RetCode: 0 Status: OK PackageFile: RegionalST_1.8.0.tar.gz PackageFileSize: 4.145 MiB