Package: RegionalST Version: 1.8.0 Command: /Library/Frameworks/R.framework/Resources/bin/R CMD INSTALL RegionalST StartedAt: 2025-11-10 15:30:57 -0500 (Mon, 10 Nov 2025) EndedAt: 2025-11-10 15:31:08 -0500 (Mon, 10 Nov 2025) EllapsedTime: 11.6 seconds RetCode: 0 Status: OK