Package: RegEnrich Version: 1.20.0 Command: /home/biocbuild/bbs-3.22-bioc/R/bin/R CMD INSTALL RegEnrich StartedAt: 2025-11-11 15:48:47 -0500 (Tue, 11 Nov 2025) EndedAt: 2025-11-11 15:49:24 -0500 (Tue, 11 Nov 2025) EllapsedTime: 36.4 seconds RetCode: 0 Status: OK