Package: RegEnrich Version: 1.18.1 Command: /home/biocbuild/R/R/bin/R CMD INSTALL RegEnrich StartedAt: 2025-10-13 21:05:27 -0000 (Mon, 13 Oct 2025) EndedAt: 2025-10-13 21:06:22 -0000 (Mon, 13 Oct 2025) EllapsedTime: 54.7 seconds RetCode: 0 Status: OK