Package: RegEnrich Version: 1.18.1 Command: /home/biocbuild/R/R/bin/R CMD build --keep-empty-dirs --no-resave-data RegEnrich StartedAt: 2025-10-14 03:56:15 -0000 (Tue, 14 Oct 2025) EndedAt: 2025-10-14 03:58:18 -0000 (Tue, 14 Oct 2025) EllapsedTime: 123.0 seconds RetCode: 1 Status: ERROR PackageFile: None PackageFileSize: NA