Package: ReducedExperiment Version: 1.2.0 Command: /home/biocbuild/bbs-3.22-bioc/R/bin/R CMD check --install=check:ReducedExperiment.install-out.txt --library=/home/biocbuild/bbs-3.22-bioc/R/site-library --timings ReducedExperiment_1.2.0.tar.gz StartedAt: 2025-11-12 03:15:30 -0500 (Wed, 12 Nov 2025) EndedAt: 2025-11-12 03:25:03 -0500 (Wed, 12 Nov 2025) EllapsedTime: 572.6 seconds RetCode: 0 Status: OK CheckDir: ReducedExperiment.Rcheck Warnings: 0