Package: ReducedExperiment Version: 1.2.0 Command: /home/biocbuild/bbs-3.22-bioc/R/bin/R CMD build --keep-empty-dirs --no-resave-data --md5 ReducedExperiment StartedAt: 2025-11-11 19:41:18 -0500 (Tue, 11 Nov 2025) EndedAt: 2025-11-11 19:43:51 -0500 (Tue, 11 Nov 2025) EllapsedTime: 153.1 seconds RetCode: 0 Status: OK PackageFile: ReducedExperiment_1.2.0.tar.gz PackageFileSize: 3.275 MiB