Package: ReducedExperiment Version: 1.0.2 Command: /home/biocbuild/bbs-3.21-bioc/R/bin/R CMD INSTALL ReducedExperiment StartedAt: 2025-10-15 15:49:04 -0400 (Wed, 15 Oct 2025) EndedAt: 2025-10-15 15:49:38 -0400 (Wed, 15 Oct 2025) EllapsedTime: 34.3 seconds RetCode: 0 Status: OK