Package: ReducedExperiment Version: 1.0.2 Command: /home/biocbuild/bbs-3.21-bioc/R/bin/R CMD build --keep-empty-dirs --no-resave-data ReducedExperiment StartedAt: 2025-10-15 19:25:17 -0400 (Wed, 15 Oct 2025) EndedAt: 2025-10-15 19:27:53 -0400 (Wed, 15 Oct 2025) EllapsedTime: 156.2 seconds RetCode: 0 Status: OK PackageFile: ReducedExperiment_1.0.2.tar.gz PackageFileSize: 3.271 MiB