Package: ReducedExperiment Version: 1.0.2 Command: /home/biocbuild/R/R/bin/R CMD INSTALL ReducedExperiment StartedAt: 2025-09-29 21:07:48 -0000 (Mon, 29 Sep 2025) EndedAt: 2025-09-29 21:08:37 -0000 (Mon, 29 Sep 2025) EllapsedTime: 49.9 seconds RetCode: 0 Status: OK