Package: ReducedExperiment Version: 1.0.0 Command: /Library/Frameworks/R.framework/Resources/bin/R CMD INSTALL ReducedExperiment StartedAt: 2025-04-21 15:24:39 -0400 (Mon, 21 Apr 2025) EndedAt: 2025-04-21 15:24:54 -0400 (Mon, 21 Apr 2025) EllapsedTime: 14.4 seconds RetCode: 0 Status: OK