Package: ReducedExperiment Version: 1.0.0 Command: /Library/Frameworks/R.framework/Resources/bin/R CMD build --keep-empty-dirs --no-resave-data ReducedExperiment StartedAt: 2025-04-21 17:24:30 -0400 (Mon, 21 Apr 2025) EndedAt: 2025-04-21 17:25:06 -0400 (Mon, 21 Apr 2025) EllapsedTime: 36.4 seconds RetCode: 1 Status: ERROR PackageFile: None PackageFileSize: NA