Package: ReducedExperiment Version: 1.0.2 Command: /Library/Frameworks/R.framework/Resources/bin/R CMD INSTALL ReducedExperiment StartedAt: 2025-10-13 17:51:53 -0400 (Mon, 13 Oct 2025) EndedAt: 2025-10-13 17:52:35 -0400 (Mon, 13 Oct 2025) EllapsedTime: 41.5 seconds RetCode: 0 Status: OK