Package: ReducedExperiment Version: 1.0.2 Command: /Library/Frameworks/R.framework/Resources/bin/R CMD build --keep-empty-dirs --no-resave-data ReducedExperiment StartedAt: 2025-10-14 07:33:33 -0400 (Tue, 14 Oct 2025) EndedAt: 2025-10-14 07:36:40 -0400 (Tue, 14 Oct 2025) EllapsedTime: 187.0 seconds RetCode: 0 Status: OK PackageFile: ReducedExperiment_1.0.2.tar.gz PackageFileSize: 2.906 MiB