Package: ReducedExperiment Version: 1.2.0 Maintainer: Jack Gisby MaintainerEmail: jackgisby at gmail.com git_url: https://git.bioconductor.org/packages/ReducedExperiment git_branch: RELEASE_3_22 git_last_commit: 5622222 git_last_commit_date: 2025-10-29 11:33:37 -0500 (Wed, 29 Oct 2025)