Package: RedisParam Version: 1.10.0 Command: rm -rf RedisParam.buildbin-libdir && mkdir RedisParam.buildbin-libdir && E:\biocbuild\bbs-3.21-bioc\R\bin\R.exe CMD INSTALL --build --library=RedisParam.buildbin-libdir RedisParam_1.10.0.tar.gz StartedAt: 2025-08-15 10:04:43 -0400 (Fri, 15 Aug 2025) EndedAt: 2025-08-15 10:05:39 -0400 (Fri, 15 Aug 2025) EllapsedTime: 56.2 seconds RetCode: 0 Status: OK PackageFile: RedisParam_1.10.0.zip PackageFileSize: 1024 KiB