Package: RedisParam Version: 1.12.0 Command: /home/biocbuild/bbs-3.22-bioc/R/bin/R CMD INSTALL RedisParam StartedAt: 2025-11-13 15:11:13 -0500 (Thu, 13 Nov 2025) EndedAt: 2025-11-13 15:11:24 -0500 (Thu, 13 Nov 2025) EllapsedTime: 11.0 seconds RetCode: 0 Status: OK