Package: RedisParam Version: 1.12.0 Command: /home/biocbuild/bbs-3.22-bioc/R/bin/R CMD build --keep-empty-dirs --no-resave-data --md5 RedisParam StartedAt: 2025-11-14 19:41:14 -0500 (Fri, 14 Nov 2025) EndedAt: 2025-11-14 19:41:21 -0500 (Fri, 14 Nov 2025) EllapsedTime: 7.0 seconds RetCode: 0 Status: OK PackageFile: RedisParam_1.12.0.tar.gz PackageFileSize: 951.6 KiB