Package: RedisParam Version: 1.10.0 Command: /Library/Frameworks/R.framework/Resources/bin/R CMD INSTALL RedisParam StartedAt: 2025-10-06 15:16:53 -0400 (Mon, 06 Oct 2025) EndedAt: 2025-10-06 15:17:22 -0400 (Mon, 06 Oct 2025) EllapsedTime: 29.1 seconds RetCode: 0 Status: OK