Package: RedisParam Version: 1.10.0 Command: /Library/Frameworks/R.framework/Resources/bin/R CMD build --keep-empty-dirs --no-resave-data RedisParam StartedAt: 2025-10-06 21:53:57 -0400 (Mon, 06 Oct 2025) EndedAt: 2025-10-06 21:54:13 -0400 (Mon, 06 Oct 2025) EllapsedTime: 16.0 seconds RetCode: 0 Status: OK PackageFile: RedisParam_1.10.0.tar.gz PackageFileSize: 950.4 KiB