Package: RedeR Version: 3.6.0 Command: /home/biocbuild/R/R/bin/R CMD INSTALL RedeR StartedAt: 2025-11-13 21:07:38 -0000 (Thu, 13 Nov 2025) EndedAt: 2025-11-13 21:08:12 -0000 (Thu, 13 Nov 2025) EllapsedTime: 34.3 seconds RetCode: 0 Status: OK