Package: RedeR Version: 3.6.0 Command: /home/biocbuild/R/R/bin/R CMD build --keep-empty-dirs --no-resave-data RedeR StartedAt: 2025-11-14 04:31:13 -0000 (Fri, 14 Nov 2025) EndedAt: 2025-11-14 04:31:30 -0000 (Fri, 14 Nov 2025) EllapsedTime: 17.0 seconds RetCode: 0 Status: OK PackageFile: RedeR_3.6.0.tar.gz PackageFileSize: 4.416 MiB