Package: RedeR Version: 3.6.0 Command: /home/biocbuild/bbs-3.22-bioc/R/bin/R CMD INSTALL RedeR StartedAt: 2025-11-11 15:09:42 -0500 (Tue, 11 Nov 2025) EndedAt: 2025-11-11 15:09:58 -0500 (Tue, 11 Nov 2025) EllapsedTime: 16.7 seconds RetCode: 0 Status: OK