Package: RedeR Version: 3.4.0 Command: /home/biocbuild/bbs-3.21-bioc/R/bin/R CMD INSTALL RedeR StartedAt: 2025-10-15 15:05:06 -0400 (Wed, 15 Oct 2025) EndedAt: 2025-10-15 15:05:23 -0400 (Wed, 15 Oct 2025) EllapsedTime: 17.0 seconds RetCode: 0 Status: OK