Package: RedeR Version: 3.4.0 Command: /home/biocbuild/R/R/bin/R CMD INSTALL RedeR StartedAt: 2025-09-25 20:17:00 -0000 (Thu, 25 Sep 2025) EndedAt: 2025-09-25 20:17:20 -0000 (Thu, 25 Sep 2025) EllapsedTime: 20.0 seconds RetCode: 0 Status: OK