Package: RedeR Version: 3.4.0 Command: /Library/Frameworks/R.framework/Resources/bin/R CMD INSTALL RedeR StartedAt: 2025-10-13 15:16:53 -0400 (Mon, 13 Oct 2025) EndedAt: 2025-10-13 15:17:00 -0400 (Mon, 13 Oct 2025) EllapsedTime: 6.9 seconds RetCode: 0 Status: OK