Package: RedeR Version: 3.4.0 Command: /Library/Frameworks/R.framework/Resources/bin/R CMD build --keep-empty-dirs --no-resave-data RedeR StartedAt: 2025-10-14 07:33:03 -0400 (Tue, 14 Oct 2025) EndedAt: 2025-10-14 07:33:22 -0400 (Tue, 14 Oct 2025) EllapsedTime: 19.2 seconds RetCode: 0 Status: OK PackageFile: RedeR_3.4.0.tar.gz PackageFileSize: 4.347 MiB