Back to Build/check report for BioC 3.22:   simplified   long
ABCDEFGHIJKLMNOPQ[R]STUVWXYZ

This page was generated on 2025-11-13 11:55 -0500 (Thu, 13 Nov 2025).

HostnameOSArch (*)R versionInstalled pkgs
taishanLinux (openEuler 24.03 LTS)aarch644.5.0 (2025-04-11) -- "How About a Twenty-Six" 4668
Click on any hostname to see more info about the system (e.g. compilers)      (*) as reported by 'uname -p', except on Windows and Mac OS X

All results for package RedeR


To the developers/maintainers of the RedeR package:
- Allow up to 24 hours (and sometimes 48 hours) for your latest push to git@git.bioconductor.org:packages/RedeR.git to reflect on this report. See Troubleshooting Build Report for more information.
- Use the following Renviron settings to reproduce errors and warnings.
- If 'R CMD check' started to fail recently on the Linux builder(s) over a missing dependency, add the missing dependency to 'Suggests:' in your DESCRIPTION file. See Renviron.bioc for more information.

raw results

Package 1754/2361HostnameOS / ArchINSTALLBUILDCHECKBUILD BIN
RedeR 3.6.0  (landing page)
Mauro Castro
Snapshot Date: 2025-11-12 13:45 -0500 (Wed, 12 Nov 2025)
git_url: https://git.bioconductor.org/packages/RedeR
git_branch: RELEASE_3_22
git_last_commit: bff7283
git_last_commit_date: 2025-10-29 10:08:13 -0500 (Wed, 29 Oct 2025)
taishanLinux (openEuler 24.03 LTS) / aarch64  OK    OK    OK  



Results for Bioconductor software packages that depend directly on package RedeR

QUICK STATSOS / ArchINSTALLBUILDCHECKBUILD BIN
taishanLinux (openEuler 24.03 LTS) / aarch64
004
004
0004
Package 1/4HostnameOS / ArchINSTALLBUILDCHECKBUILD BIN
PANR 1.56.0  (landing page)
Xin Wang
git_last_commit: 3682d47
git_last_commit_date: 2025-10-29 10:08:44 -0500
taishanLinux (openEuler 24.03 LTS) / aarch64  OK    OK    OK  
Package 2/4HostnameOS / ArchINSTALLBUILDCHECKBUILD BIN
RTN 2.34.0  (landing page)
Mauro Castro
git_last_commit: 355296b
git_last_commit_date: 2025-10-29 10:15:52 -0500
taishanLinux (openEuler 24.03 LTS) / aarch64  OK    OK    OK  
Package 3/4HostnameOS / ArchINSTALLBUILDCHECKBUILD BIN
transcriptogramer 1.32.0  (landing page)
Diego Morais
git_last_commit: 148c879
git_last_commit_date: 2025-10-29 10:42:09 -0500
taishanLinux (openEuler 24.03 LTS) / aarch64  OK    OK    OK  
Package 4/4HostnameOS / ArchINSTALLBUILDCHECKBUILD BIN
TreeAndLeaf 1.22.0  (landing page)
Milena A. Cardoso
git_last_commit: 1198a67
git_last_commit_date: 2025-10-29 10:56:45 -0500
taishanLinux (openEuler 24.03 LTS) / aarch64  OK    OK    OK