Package: ReadqPCR Version: 1.56.0 Command: /home/biocbuild/R/R/bin/R CMD INSTALL ReadqPCR StartedAt: 2025-11-20 22:00:46 -0000 (Thu, 20 Nov 2025) EndedAt: 2025-11-20 22:00:51 -0000 (Thu, 20 Nov 2025) EllapsedTime: 5.6 seconds RetCode: 0 Status: OK