Package: ReadqPCR Version: 1.56.0 Command: /home/biocbuild/R/R/bin/R CMD build --keep-empty-dirs --no-resave-data ReadqPCR StartedAt: 2025-11-18 04:20:49 -0000 (Tue, 18 Nov 2025) EndedAt: 2025-11-18 04:20:59 -0000 (Tue, 18 Nov 2025) EllapsedTime: 10.0 seconds RetCode: 0 Status: OK PackageFile: ReadqPCR_1.56.0.tar.gz PackageFileSize: 484.3 KiB