Package: ReadqPCR Version: 1.56.0 Command: /home/biocbuild/bbs-3.22-bioc/R/bin/R CMD check --install=check:ReadqPCR.install-out.txt --library=/home/biocbuild/bbs-3.22-bioc/R/site-library --timings ReadqPCR_1.56.0.tar.gz StartedAt: 2025-11-14 03:15:21 -0500 (Fri, 14 Nov 2025) EndedAt: 2025-11-14 03:15:51 -0500 (Fri, 14 Nov 2025) EllapsedTime: 30.0 seconds RetCode: 0 Status: OK CheckDir: ReadqPCR.Rcheck Warnings: 0